Workbook

Sheet TBU
A1: TBU - 2011 MPB Update
A2: Area (ha) of MPB Attack Severity by Age Class and Density within Pine Stands (Pine Species >= 30% density - The Pine Mask)
A3: TSA Area | B3: 762734.42
A4: Pine Mask Unharvested Area | B4: =SUM(data!D2:D200) -> 120873.63
A6: MPB Attack as a percentage of Pine affected within the VRI Stand
A8: MPB Attack Severity
C9: Light (<11%) | E9: Moderate (11-30%) | G9: Severe (31-50%) | I9: Very Severe (>50%) | K9: All Severity | M9: No Attack
A10: Age Class | B10: Pine Density | C10: Area (ha) | D10: Percent of all Pine (Pine Mask) | E10: Area (ha) | F10: Percent of all Pine (Pine Mask) | G10: Area (ha) | H10: Percent of all Pine (Pine Mask) | I10: Area (ha) | J10: Percent of all Pine (Pine Mask) | K10: Total Area of Attack (ha) | L10: Percent of all Pine (Pine Mask) | M10: Area (ha) | N10: Percent of all Pine (Pine Mask)
A11: 21-40 years | B11: 30-70% | C11: {=SUM(IF(data!A2:A200="21-40 years",IF(data!B2:B200="30-70%",IF(data!C2:C200="Light (<11%)",data!D2:D200,0),0),0))} -> 1023.2909 | D11: =C11/($K$20+$M$20) -> 0.0096027052 | E11: {=SUM(IF(data!A2:A200="21-40 years",IF(data!B2:B200="30-70%",IF(data!C2:C200="Moderate (11-30%)",data!D2:D200,0),0),0))} -> 497.46372 | F11: =E11/($K$20+$M$20) -> 0.0046682693 | G11: {=SUM(IF(data!A2:A200="21-40 years",IF(data!B2:B200="30-70%",IF(data!C2:C200="Severe (31-50%)",data!D2:D200,0),0),0))} -> 385.80933 | H11: =G11/($K$20+$M$20) -> 0.0036204888 | I11: {=SUM(IF(data!A2:A200="21-40 years",IF(data!B2:B200="30-70%",IF(data!C2:C200="Very Severe (>50%)",data!D2:D200,0),0),0))} -> 703.6781 | J11: =I11/($K$20+$M$20) -> 0.006603414 | K11: =SUM(C11,E11,G11,I11) -> 2610.242 | L11: =K11/($K$20+$M$20) -> 0.024494877 | M11: {=SUM(IF(data!A2:A200="21-40 years",IF(data!B2:B200="30-70%",IF(data!C2:C200="No Attack",data!D2:D200,0),0),0))} -> 8712.7981 | N11: =M11/($K$20+$M$20) -> 0.08176212
B12: >70% | C12: {=SUM(IF(data!A2:A200="21-40 years",IF(data!B2:B200=">70%",IF(data!C2:C200="Light (<11%)",data!D2:D200,0),0),0))} -> 1743.9689 | D12: =C12/($K$20+$M$20) -> 0.016365649 | E12: {=SUM(IF(data!A2:A200="21-40 years",IF(data!B2:B200=">70%",IF(data!C2:C200="Moderate (11-30%)",data!D2:D200,0),0),0))} -> 661.52293 | F12: =E12/($K$20+$M$20) -> 0.006207824 | G12: {=SUM(IF(data!A2:A200="21-40 years",IF(data!B2:B200=">70%",IF(data!C2:C200="Severe (31-50%)",data!D2:D200,0),0),0))} -> 330.1142 | H12: =G12/($K$20+$M$20) -> 0.003097838 | I12: {=SUM(IF(data!A2:A200="21-40 years",IF(data!B2:B200=">70%",IF(data!C2:C200="Very Severe (>50%)",data!D2:D200,0),0),0))} -> 2038.1325 | J12: =I12/($K$20+$M$20) -> 0.019126121 | K12: =SUM(C12,E12,G12,I12) -> 4773.7385 | L12: =K12/($K$20+$M$20) -> 0.044797432 | M12: {=SUM(IF(data!A2:A200="21-40 years",IF(data!B2:B200=">70%",IF(data!C2:C200="No Attack",data!D2:D200,0),0),0))} -> 8496.9177 | N12: =M12/($K$20+$M$20) -> 0.079736267
A14: 41-60 years | B14: 30-70% | C14: {=SUM(IF(data!A2:A200="41-60 years",IF(data!B2:B200="30-70%",IF(data!C2:C200="Light (<11%)",data!D2:D200,0),0),0))} -> 382.47021 | D14: =C14/($K$20+$M$20) -> 0.0035891541 | E14: {=SUM(IF(data!A2:A200="41-60 years",IF(data!B2:B200="30-70%",IF(data!C2:C200="Moderate (11-30%)",data!D2:D200,0),0),0))} -> 209.58805 | F14: =E14/($K$20+$M$20) -> 0.0019668036 | G14: {=SUM(IF(data!A2:A200="41-60 years",IF(data!B2:B200="30-70%",IF(data!C2:C200="Severe (31-50%)",data!D2:D200,0),0),0))} -> 70.834109 | H14: =G14/($K$20+$M$20) -> 0.00066471721 | I14: {=SUM(IF(data!A2:A200="41-60 years",IF(data!B2:B200="30-70%",IF(data!C2:C200="Very Severe (>50%)",data!D2:D200,0),0),0))} -> 547.45568 | J14: =I14/($K$20+$M$20) -> 0.0051374009 | K14: =SUM(C14,E14,G14,I14) -> 1210.348 | L14: =K14/($K$20+$M$20) -> 0.011358076 | M14: {=SUM(IF(data!A2:A200="41-60 years",IF(data!B2:B200="30-70%",IF(data!C2:C200="No Attack",data!D2:D200,0),0),0))} -> 2946.2215 | N14: =M14/($K$20+$M$20) -> 0.027647756
B15: >70% | C15: {=SUM(IF(data!A2:A200="41-60 years",IF(data!B2:B200=">70%",IF(data!C2:C200="Light (<11%)",data!D2:D200,0),0),0))} -> 96.950613 | D15: =C15/($K$20+$M$20) -> 0.00090979815 | E15: {=SUM(IF(data!A2:A200="41-60 years",IF(data!B2:B200=">70%",IF(data!C2:C200="Moderate (11-30%)",data!D2:D200,0),0),0))} -> 54.195966 | F15: =E15/($K$20+$M$20) -> 0.00050858254 | G15: {=SUM(IF(data!A2:A200="41-60 years",IF(data!B2:B200=">70%",IF(data!C2:C200="Severe (31-50%)",data!D2:D200,0),0),0))} -> 47.109357 | H15: =G15/($K$20+$M$20) -> 0.00044208082 | I15: {=SUM(IF(data!A2:A200="41-60 years",IF(data!B2:B200=">70%",IF(data!C2:C200="Very Severe (>50%)",data!D2:D200,0),0),0))} -> 589.4161 | J15: =I15/($K$20+$M$20) -> 0.0055311634 | K15: =SUM(C15,E15,G15,I15) -> 787.67204 | L15: =K15/($K$20+$M$20) -> 0.0073916249 | M15: {=SUM(IF(data!A2:A200="41-60 years",IF(data!B2:B200=">70%",IF(data!C2:C200="No Attack",data!D2:D200,0),0),0))} -> 1072.88 | N15: =M15/($K$20+$M$20) -> 0.010068057
A17: >60 years | B17: 30-70% | C17: {=SUM(IF(data!A2:A200=">60 years",IF(data!B2:B200="30-70%",IF(data!C2:C200="Light (<11%)",data!D2:D200,0),0),0))} -> 1251.5697 | D17: =C17/($K$20+$M$20) -> 0.011744906 | E17: {=SUM(IF(data!A2:A200=">60 years",IF(data!B2:B200="30-70%",IF(data!C2:C200="Moderate (11-30%)",data!D2:D200,0),0),0))} -> 1390.5781 | F17: =E17/($K$20+$M$20) -> 0.013049379 | G17: {=SUM(IF(data!A2:A200=">60 years",IF(data!B2:B200="30-70%",IF(data!C2:C200="Severe (31-50%)",data!D2:D200,0),0),0))} -> 1592.4587 | H17: =G17/($K$20+$M$20) -> 0.014943856 | I17: {=SUM(IF(data!A2:A200=">60 years",IF(data!B2:B200="30-70%",IF(data!C2:C200="Very Severe (>50%)",data!D2:D200,0),0),0))} -> 33737.591 | J17: =I17/($K$20+$M$20) -> 0.31659829 | K17: =SUM(C17,E17,G17,I17) -> 37972.198 | L17: =K17/($K$20+$M$20) -> 0.35633643 | M17: {=SUM(IF(data!A2:A200=">60 years",IF(data!B2:B200="30-70%",IF(data!C2:C200="No Attack",data!D2:D200,0),0),0))} -> 8008.6274 | N17: =M17/($K$20+$M$20) -> 0.075154083
B18: >70% | C18: {=SUM(IF(data!A2:A200=">60 years",IF(data!B2:B200=">70%",IF(data!C2:C200="Light (<11%)",data!D2:D200,0),0),0))} -> 538.05871 | D18: =C18/($K$20+$M$20) -> 0.0050492184 | E18: {=SUM(IF(data!A2:A200=">60 years",IF(data!B2:B200=">70%",IF(data!C2:C200="Moderate (11-30%)",data!D2:D200,0),0),0))} -> 725.2254 | F18: =E18/($K$20+$M$20) -> 0.0068056169 | G18: {=SUM(IF(data!A2:A200=">60 years",IF(data!B2:B200=">70%",IF(data!C2:C200="Severe (31-50%)",data!D2:D200,0),0),0))} -> 1373.1002 | H18: =G18/($K$20+$M$20) -> 0.012885365 | I18: {=SUM(IF(data!A2:A200=">60 years",IF(data!B2:B200=">70%",IF(data!C2:C200="Very Severe (>50%)",data!D2:D200,0),0),0))} -> 24764.945 | J18: =I18/($K$20+$M$20) -> 0.23239772 | K18: =SUM(C18,E18,G18,I18) -> 27401.33 | L18: =K18/($K$20+$M$20) -> 0.25713792 | M18: {=SUM(IF(data!A2:A200=">60 years",IF(data!B2:B200=">70%",IF(data!C2:C200="No Attack",data!D2:D200,0),0),0))} -> 2569.7994 | N18: =M18/($K$20+$M$20) -> 0.024115358
A20: Total | C20: =SUM(C11:C18) -> 5036.3091 | D20: =C20/($K$20+$M$20) -> 0.047261431 | E20: =SUM(E11:E18) -> 3538.5741 | F20: =E20/($K$20+$M$20) -> 0.033206476 | G20: =SUM(G11:G18) -> 3799.4259 | H20: =G20/($K$20+$M$20) -> 0.035654346 | I20: =SUM(I11:I18) -> 62381.219 | J20: =I20/($K$20+$M$20) -> 0.58539411 | K20: =SUM(K11:K18) -> 74755.528 | L20: =SUM(L11:L18) -> 0.70151636 | M20: =SUM(M11:M18) -> 31807.244 | N20: =SUM(N11:N18) -> 0.29848364

Sheet data
A1: Age Class | B1: Pine Density | C1: MPB Attack Severity | D1: Sum Of area_ha
A2: <21 years | B2: >70% | C2: Light (<11%) | D2: 355.98433
A3: <21 years | B3: >70% | C3: Light (<11%) | D3: 13.297394
A4: <21 years | B4: >70% | C4: Light (<11%) | D4: 377.22469
A5: <21 years | B5: >70% | C5: Moderate (11-30%) | D5: 53.669295
A6: <21 years | B6: >70% | C6: Moderate (11-30%) | D6: 70.062909
A7: <21 years | B7: >70% | C7: Moderate (11-30%) | D7: 138.56863
A8: <21 years | B8: >70% | C8: No Attack | D8: 2263.4811
A9: <21 years | B9: >70% | C9: No Attack | D9: 100.01532
A10: <21 years | B10: >70% | C10: No Attack | D10: 118.28526
A11: <21 years | B11: >70% | C11: No Attack | D11: 985.63342
A12: <21 years | B12: >70% | C12: Severe (31-50%) | D12: 7.0078219
A13: <21 years | B13: >70% | C13: Very Severe (>50%) | D13: 190.75038
... A119: 41-60 years | B119: 30-70% | C119: Very Severe (>50%) | D119: 461.69443

Sheet Sheet3
